BEGIN:VCALENDAR
VERSION:2.0
PRODID:-//ddaysoftware.com//NONSGML DDay.iCal 1.0//EN
BEGIN:VEVENT
DESCRIPTION:IGFOA Executive Board Meeting
DTEND:20230217T150000
DTSTAMP:20260422T183404
DTSTART:20230217T130000
LOCATION:President Abraham Lincoln Springfield\, 701 East Adams Street\, Sp
 ringfield\, IL 62701
SEQUENCE:0
SUMMARY:IGFOA Executive Board Meeting
UID:4012a9fe-c20c-4468-a15d-56bfe636de32
END:VEVENT
END:VCALENDAR
