BEGIN:VCALENDAR
VERSION:2.0
PRODID:-//ddaysoftware.com//NONSGML DDay.iCal 1.0//EN
BEGIN:VEVENT
DESCRIPTION:The Illinois City/County Management Association\, Illinois Gove
 rnmet Finance Officers Association and the Northern Illinois University Ce
 nter for Governmental Studies Invite You to Attend The Eleventh Annual Ill
 inois Financial Forecast Forum\nDiscuss economic and financial trends affe
 cting local governments in Illinois. Learn about future trends in industri
 al development\, manufacturing and automotive\, employment and labor\, hea
 lth\, real estate and retail. Click here to view/download the agenda and r
 egistration form. \nCredits: CEU = Earn 0.5\, CPE - Earn 6.6\; CM | 3.5 (C
 M Pending)\nICMA Credentialed Manager Practice Areas: 6 - Strategic Leader
 ship and 12 - Financial Management and Budgeting\nRegistration Rates - Hyb
 rid wth in-person option\nIn-Person Rates: $99 for first attendee\, $69 fo
 r each additional attendee registration from same organization\, $25 for s
 tudents/interns\nILCMA Members in Transition are complimentary - please us
 e MIT code when registering.\nCLICK HERE TO REGISTER TODAY!
DTEND:20230120T160000
DTSTAMP:20260425T163912
DTSTART:20230120T080000
LOCATION:NIU Naperville\, 1120 E. Diehl Road\, Naperville\, Illinois 60563
SEQUENCE:0
SUMMARY:Illinois Financial Forecast Forum: Private Sector Views that will I
 mpact the Public Sector
UID:13fe05b4-d1ba-41b4-83de-8947bb779f0d
END:VEVENT
END:VCALENDAR
