BEGIN:VCALENDAR
VERSION:2.0
PRODID:-//ddaysoftware.com//NONSGML DDay.iCal 1.0//EN
BEGIN:VEVENT
DESCRIPTION:Building on the discussions from the January roundtable\, join 
 Michael Malatt and Anthony Cervini as they discuss the first steps in impl
 ementing GASB 87. The session will cover common lease examples and provide
  recommendations to assist your organization in identifying\, compiling\, 
 and assessing the information necessary for a successful implementation.\n
 Facilitators:  Anthony Cervini\, CPA\, CFE\, Partner-in-Charge\, Governmen
 t Services\, Sikich LLP and Michael Malatt\, CPA\, Partner\, Baker Tilly U
 S\, LLP\nThis event is hosted by the Illinois GFOA. There is no cost to at
 tend.           \n 
DTEND:20230214T140000
DTSTAMP:20260421T031301
DTSTART:20230214T130000
LOCATION:
SEQUENCE:0
SUMMARY:Free IGFOA Virtual Roundtable: GASB 87 – Getting Started: Gathering
  and Assessing Lease Data
UID:cbd7df34-1406-4b32-8573-5d39d19ba7f8
END:VEVENT
END:VCALENDAR
