BEGIN:VCALENDAR
VERSION:2.0
PRODID:-//ddaysoftware.com//NONSGML DDay.iCal 1.0//EN
BEGIN:VEVENT
DESCRIPTION:Make plans to join the IGFOA Executive Board and Partners' Foru
 m as they say "thank you" to all IGFOA members at a complimentary member a
 ppreciation event. Come enjoy networking and camaraderie\, lunch\, and gue
 st speaker Jarrett Payton\, son of the late NFL Hall of Famer Walter Payto
 n! \nAs a popular sports broadcaster\, successful entrepreneur and passion
 ate philanthropist\, Jarrett’s uplifting message\, “Lessons Learned from M
 y Father”\, will present attendees with a unique behind the scenes look at
  how his famous father helped drive the successful career he enjoys today.
 \nLearning Objectives:  Participants completing this session will be able 
 to:\n\nPassion – how to find one’s passion\;\nPersistence – focus on your 
 goals and dreams\; and\nPresence – showing up and being present for your o
 pportunities.\n\nNon-member public sector and partner colleagues are welco
 me to attend for fee (must be paid in advance).  \nIGFOA members should se
 lect check when prompted to pay. Non-members can pay in advance by credit 
 card. \n\n    \nIntended Audience: Finance ProfessionalsDelivery Method: G
 roup-LiveProgram Level: OverviewPrerequisites: No prerequisites requiredAd
 vanced Preparation: No advanced preparation requiredField of Study: Person
 al Development - Non-TechnicalLast Review/Revision/Update: May 12\, 2023NA
 SBA CPE Credits: Earn about 1.0 CPE credit
DTEND:20230512T143000
DTSTAMP:20260424T024726
DTSTART:20230512T113000
LOCATION:Hyatt Regency Lisle\, Linden Pavilion\, 1400 Corporetum Dr.\, Lisl
 e\, Illinois 60532
SEQUENCE:0
SUMMARY:IGFOA Member Appreciation Event: Lesson Learned from My Father
UID:148cae75-611e-4400-ad41-b217828ee234
END:VEVENT
END:VCALENDAR
