BEGIN:VCALENDAR
VERSION:2.0
PRODID:-//ddaysoftware.com//NONSGML DDay.iCal 1.0//EN
BEGIN:VEVENT
DESCRIPTION:This presentation will provide a history on the Illinois Unclai
 med Property Program as well as the steps to complete Unclaimed Property R
 eporting from start to finish. Due diligence mailings\, creating your repo
 rt\, remitting funds and post reporting requests will be discussed\, as we
 ll as what local governments need to do to retrieve funds that belong to t
 hem.\nLearning Objectives:  Participants completing this session will be a
 ble to:\n\nLearn the history of unclaimed property and why it is important
  to maintain compliance with regulations\;\nLearn deadlines and steps for 
 completing due diligence mailings\;\nBe able to complete the reporting pro
 cess\;\nAnswer questions from potential claimants about how to claim prope
 rty\, as well as Illinois State Treasurer’s Office staff on properties pre
 viously reported\; and\nLearn how to claim property for yourself and on be
 half of your organizations.\n\nAGENDACheck-in and Networking: 11:45 AM - 1
 2:00 PMLuncheon: 12:00 PM Presentation: 12:00 PM \nSpeakers:  Rick Cory\, 
 Manager of Compliance - Unclaimed Property Division\, Illinois State Treas
 urer's Office and Ashton Kulavic\, Chief of Unclaimed Property\, Illinois 
 State Treasurer's Office\nIntended Audience: Finance ProfessionalsDelivery
  Method: Group LiveProgram Level: OverviewPrerequisites: No prerequisites 
 requiredAdvanced Preparation: No advanced preparation requiredField of Stu
 dy: Business Management and Organization - Non-TechnicalLast Review/Revisi
 on/Update: June 20\, 2023NASBA CPE Credits: Earn About 1.0 CPE credit
DTEND:20230620T130000
DTSTAMP:20260422T170921
DTSTART:20230620T120000
LOCATION:Tavern on Clark\, 755 Clark Dr.\, Rockford\, Illinois 61107
SEQUENCE:0
SUMMARY:Rock River Region Lunch and Learn: Local Government Unclaimed Prope
 rty Reporting
UID:c49e185d-23c1-47df-87de-0145bed1405a
END:VEVENT
END:VCALENDAR
