BEGIN:VCALENDAR
VERSION:2.0
PRODID:-//ddaysoftware.com//NONSGML DDay.iCal 1.0//EN
BEGIN:VEVENT
DESCRIPTION:Intended Audience:  Finance Directors\, Managers\, Administrato
 rs\, Accountants\, Assistant Managers\, Assistant Finance Directors\, Pens
 ion Board Trustees\, and professional staff and officials interested in lo
 cal government pension issues. \nSeminar description: A full day seminar a
 ddressing advanced and current issues in local government pension manageme
 nt:• Fiduciary Liability for Fire and Police Pension Plan Trustees and 457
  Plan Trustees• Analyzing the Requirement\, Process and Calculations for S
 ervice Transfer Credits• Pension Reform Legislative Update• Incorporating 
 Public Pension Liability Exposure into Credit Ratings• The Effect of Actua
 rial Assumptions\, Methods\, & Experience on Pension Funding• The Laws of 
 Appreciating Returns: Analyzing the Case for Making (or Not Making) Supple
 mental Pension Payments from Uncommitted Reserves• IMRF Hot Topics & Updat
 e\nAgenda\, Speakers\, and Learning Objectives\nLearning Objectives - Part
 icipants completing this Institute will be able to: see attachedDelivery M
 ethod: Group-LiveProgram Level: OverviewPrerequisites: No prerequisites re
 quiredAdvanced Preparation: No advanced preparation requiredField of Study
 : Finance Earn About 8.0 CPE creditIGFOA reserves the right to modify the 
 agendas and/or speakers\, cancel the trainings due to low enrollment\, or 
 to close registration if full.  
DTEND:20160317T163000
DTSTAMP:20260422T205031
DTSTART:20160317T082500
LOCATION:DoubleTree Suites by Hilton Chicago-Downers Grove\, 2111 Butterfie
 ld Road\, Downers Grove\, IL 60515
SEQUENCE:0
SUMMARY:Illinois Public Pension Institute
UID:b524cb6a-9938-4a3b-a94b-586e70f55d3b
END:VEVENT
END:VCALENDAR
