BEGIN:VCALENDAR
VERSION:2.0
PRODID:-//ddaysoftware.com//NONSGML DDay.iCal 1.0//EN
BEGIN:VEVENT
DESCRIPTION:This seminar will review the current state of and forecast for 
 the US economy\, covering key indicators such as GDP growth\, the unemploy
 ment rate\, and inflation. Attendees will learn about how the US economy g
 ot to where it is today and how it may evolve over the next year. The talk
  will then turn to where the Illinois economy is relative to the nation\, 
 with a focus on understanding Illinois’s long term growth trajectory.\nLea
 rning Objectives:  Participants completing this session will be able to:\n
 \nUnderstand key current economic indicators for the US and states\;\nKnow
  a potential path for the US economy over the next 12 months\; and\nKnow s
 ome important drivers of differences in economic growth across US regions.
 \n\nSpeaker: Thomas Walstrum\, Senior Business Economist\, Federal Reserve
  Bank of Chicago\nIntended Audience: Finance ProfessionalsDelivery Method:
  Internet BasedProgram Level: UpdatePrerequisites: No prerequisites requir
 ed Advanced Preparation: No advanced preparation requiredField of Study: E
 conomics - TechnicalNASBA CPE: Earn About 1.5 CPE credit
DTEND:20230712T141500
DTSTAMP:20260425T205033
DTSTART:20230712T130000
LOCATION:
SEQUENCE:0
SUMMARY:Economic Outlook for the US and Illinois
UID:b8df4038-f9d9-485c-ad97-87d2f37a5c45
END:VEVENT
END:VCALENDAR
