BEGIN:VCALENDAR
VERSION:2.0
PRODID:-//ddaysoftware.com//NONSGML DDay.iCal 1.0//EN
BEGIN:VEVENT
DESCRIPTION:This session will review investment options that are available 
 to municipalities as outlined in state statute\, 30 ILCS-235.  We will go 
 back to the basics and discuss each investment type\, giving tips on what 
 you need to know prior to purchasing\, including risk and liquidity review
 .  We will then dive into when a municipality should invest\, which should
  be determined through cash flow analysis\, and how to invest to achieve o
 ptimal results.\nLearning Objectives:  Participants completing this sessio
 n will be able to:\n\n\nGain a basic understanding of the various investme
 nt options available to municipalities\;\n\n\nLearn the importance of cash
  flow analysis in determining investment placement\; and\n\n\nAcquire a kn
 owledge of how to effectively invest to meet both short-term and long-term
  cash needs.\n\n\nAGENDACheck-in and Networking: 11:30 AM - 11:45 AMLunche
 on: 11:45 AM Presentation: 12:00 PM \nSpeaker:  Courtney E. Soesbe\, Vice 
 President | Sr. Relationship Manager\, PMA Financial Network\, LLC\nIntend
 ed Audience: Finance ProfessionalsDelivery Method: Group LiveProgram Level
 : BasicPrerequisites: No prerequisites requiredAdvanced Preparation: No ad
 vanced preparation requiredField of Study: Finance - TechnicalLast Review/
 Revision/Update: July 21\, 2023NASBA CPE Credits: Earn About 1.0 CPE credi
 t
DTEND:20230721T130000
DTSTAMP:20260422T041504
DTSTART:20230721T113000
LOCATION:Klucker Hall\, 14 Park Drive\, Shiloh\, IL 62269
SEQUENCE:0
SUMMARY:Southern Region Lunch and Learn: Investments 101 – IL State Statute
  30 ILCS-235
UID:3d093eb9-2042-49f1-a548-8ff294d6a605
END:VEVENT
END:VCALENDAR
