BEGIN:VCALENDAR
VERSION:2.0
PRODID:-//ddaysoftware.com//NONSGML DDay.iCal 1.0//EN
BEGIN:VEVENT
DESCRIPTION:This webinar will present an overview of State of Illinois gran
 ts and how to navigate the documents associated with the application for f
 unding. The speaker will cover how to identify grant opportunities\, how t
 o ensure all relevant information is provided in the grant application\, a
 s well as provide an overview of the award process.\nLearning Objectives: 
  Participants completing this session will be able to:\n\nUnderstand how t
 o write a compelling grant application for State of Illinois grants\;\nLea
 rn how to identify grant opportunities\; and\nGain a basic understanding o
 f the award process.\n\nSpeaker: Jared Walkowitz\, Chief Accountability Of
 ficer\, Illinois Department of Commerce & Economic Opportunity\nIntended A
 udience: Finance ProfessionalsDelivery Method: Internet BasedProgram Level
 : OverviewPrerequisites: No prerequisites required Advanced Preparation: N
 o advanced preparation requiredField of Study: Finance - TechnicalLast Rev
 iew/Revision/Update: October 24\, 2023NASBA CPE: Earn About 1.0 CPE credit
DTEND:20231024T110000
DTSTAMP:20260421T025605
DTSTART:20231024T100000
LOCATION:
SEQUENCE:0
SUMMARY:Grant Writing Tips and Tricks
UID:026eddf2-b497-4c6f-b8e4-0e96e31f80bb
END:VEVENT
END:VCALENDAR
