BEGIN:VCALENDAR
VERSION:2.0
PRODID:-//ddaysoftware.com//NONSGML DDay.iCal 1.0//EN
BEGIN:VEVENT
DESCRIPTION:\nCheck-in & Networking: 11:30 AM - 12:00 PMLuncheon: 12:00 PM 
 Networking and Camaraderie: Immediately following the luncheonFundraiserPl
 ease bring an item to support Project Oz at the Downstate IGFOA Central Re
 gion Christmas luncheon. Items of need\, include:\n\n$10 fast food and Ube
 r gift cards.\nWinter gloves and hats of all sizes.\nCleaning supplies suc
 h as toilet bowel cleaner\, Clorox wipes\, multi-purpose cleaner\, paper t
 owels\, and toilet paper.\nChristmas wrapping paper\, gift bags\, ribbon\,
  and tape to wrap gifts for their clients with children.\n\nProject Oz pro
 vides counseling\, education and career planning\, student support service
 s\, safety planning\, and healthy living strategies to children and famili
 es. In both McLean and Livingston counties\, they provide aid\, shelter\, 
 and safety for runaway and homeless youth\, averaging 8\,000 per year. If 
 you are unable to participate in our donation drive\, you can also support
  Project Oz through a Monetary Donation or by purchasing items on their Am
 azon Wishlist.\n\n 
DTEND:20231207T133000
DTSTAMP:20260425T095952
DTSTART:20231207T120000
LOCATION:Medici's\, 120 W North Street\, Normal\, Illinois 61761
SEQUENCE:0
SUMMARY:Central Region Holiday Luncheon
UID:1b700f1f-0b7c-4e37-bce6-236337fa4148
END:VEVENT
END:VCALENDAR
