BEGIN:VCALENDAR
VERSION:2.0
PRODID:-//ddaysoftware.com//NONSGML DDay.iCal 1.0//EN
BEGIN:VEVENT
DESCRIPTION:Illinois Municipal League Annual Conference
DTEND:20170923T000000
DTSTAMP:20260423T210845
DTSTART:20170921T000000
LOCATION:
SEQUENCE:0
SUMMARY:Illinois Municipal League Annual Conference
UID:a668ecd2-f441-4bac-95c6-e06fb5a2b32d
END:VEVENT
END:VCALENDAR
