BEGIN:VCALENDAR
VERSION:2.0
PRODID:-//ddaysoftware.com//NONSGML DDay.iCal 1.0//EN
BEGIN:VEVENT
DESCRIPTION:\nCheck-in & Networking: 11:30 AM - 12:00 PMLuncheon: 12:00 PMP
 resentation: 12:15 PMNetworking and Camaraderie: Immediately following the
  luncheon\nKent Floros\, Partner\, Chapman and Cutler LLP will provide a b
 rief update on Municipal SEC Enforcement matters relevant to Illinois loca
 l governments. The update is not CPE eligible. \n 
DTEND:20231206T133000
DTSTAMP:20260421T031438
DTSTART:20231206T120000
LOCATION:Short Hills Country Club\, 2500 11th St.\, East Moline\, Illinois 
 61244
SEQUENCE:0
SUMMARY:Quad Cities Region Holiday Luncheon & Update on Municipal SEC Enfor
 cement
UID:d992f170-51db-41c5-a5ba-aad812696a01
END:VEVENT
END:VCALENDAR
