BEGIN:VCALENDAR
VERSION:2.0
PRODID:-//ddaysoftware.com//NONSGML DDay.iCal 1.0//EN
BEGIN:VEVENT
DESCRIPTION:Join us for a webinar series on the basic principles of how fin
 ance in the public sector differs from the private sector. Learn the basic
  components of the budget process and the difference between the Governmen
 tal Accounting Standards Board (GASB) and the Financial Accounting Standar
 ds Board (FASB). \nSession Descriptions and Learning ObjectivesSpeaker Bio
 s\nAGENDA9:15 AM - 10:15 AM  Session 1: Principles of Government Finance –
  From Private to Public11:00 AM - 12:00 PM  Session 2: The Public Budgetin
 g Process1:00 PM - 2:15 PM Session 3: Government Accounting and Financial 
 Reporting Overview: From FASB to GASB\nSpeakers: Bill Hannah\, Director of
  Finance\, City of St. Charles\, IGFOA Past President\, Elizabeth Holleb\,
  CPA\, Finance Director and Treasurer\, City of Lake Forest\, IGFOA Presid
 ent\, Rita Kruse\, CPA\, Finance Director\, City of Geneva\, IGFOA Past Pr
 esident\, and Frederick Lantz\, CPA\, Director\, Government Services\, Sik
 ich LLP \nDelivery method: Internet BasedProgram Level: BasicPrerequisites
 : No prerequisites requiredAdvanced Preparation: No advanced preparation r
 equiredField of Study: Finance - Technical\, Accounting (Governmental) - T
 echnicalLast Review/Revision/Update: January 25\, 2024NASBA CPE Credits: E
 arn about 3.5 CPE Credits
DTEND:20240125T141500
DTSTAMP:20260425T130232
DTSTART:20240125T091500
LOCATION:
SEQUENCE:0
SUMMARY:New to Government Finance: The Essentials Webinar Series
UID:7c59f5b2-5f3d-46e6-8407-cd0dff70d5fd
END:VEVENT
END:VCALENDAR
