BEGIN:VCALENDAR
VERSION:2.0
PRODID:-//ddaysoftware.com//NONSGML DDay.iCal 1.0//EN
BEGIN:VEVENT
DESCRIPTION:The IGFOA Executive Board Meeting on May 10th is in conjunction
  with the 2024 Member Appreciation event.
DTEND:20240510T110000
DTSTAMP:20260421T030510
DTSTART:20240510T090000
LOCATION:To be determined
SEQUENCE:0
SUMMARY:IGFOA Executive Board Meeting
UID:9631a3ef-3b35-4cbd-8df7-21f6cea21646
END:VEVENT
END:VCALENDAR
