BEGIN:VCALENDAR
VERSION:2.0
PRODID:-//ddaysoftware.com//NONSGML DDay.iCal 1.0//EN
BEGIN:VEVENT
DESCRIPTION:The IGFOA Executive Board Meeting on November 1st is in conjunc
 tion with the GEN Lunch & Learn. More information about the event will be 
 available in September 2024. Please check the IGFOA Calendar for the most 
 up-to-date training and event information.
DTEND:20241101T113000
DTSTAMP:20260425T205250
DTSTART:20241101T093000
LOCATION:Shaw's Crab House\, 1900 East Higgins Road\, Schaumburg\, IL 60173
SEQUENCE:0
SUMMARY:IGFOA Executive Board Meeting
UID:748dc9dd-9072-4911-964d-c90941cdc952
END:VEVENT
END:VCALENDAR
