BEGIN:VCALENDAR
VERSION:2.0
PRODID:-//ddaysoftware.com//NONSGML DDay.iCal 1.0//EN
BEGIN:VEVENT
DESCRIPTION:Join the Illinois State Treasurer's Office as they provide a hi
 story on the Illinois Unclaimed Property Program\, as well as the steps to
  complete Unclaimed Property Reporting from start to finish. Due diligence
  mailings\, creating your report\, remitting funds and post reporting requ
 ests will be discussed\, as well as what local governments need to do to r
 etrieve funds that belong to them.\nLearning Objectives:  Participants com
 pleting this session will be able to:\n\nLearn the history of unclaimed pr
 operty and why it is important to maintain compliance with regulations\;\n
 Learn deadlines and steps for completing due diligence mailings\;\nBe able
  to complete the reporting process\;\nAnswer questions from potential clai
 mants about how to claim property\, as well as Illinois State Treasurer’s 
 Office staff onproperties previously reported\; and\nLearn how to claim pr
 operty for yourself and on behalf of your organizations.\n\nSpeakers:  Ric
 k Cory\, Manager of Compliance - Unclaimed Property Division\, Illinois St
 ate Treasurer's Office and Ashton Kulavic\, Chief of Unclaimed Property\, 
 Illinois State Treasurer's Office\nIntended Audience: Finance Professional
 sDelivery Method: Internet BasedProgram Level: OverviewPrerequisites: No p
 rerequisites required Advanced Preparation: No advanced preparation requir
 edField of Study: Business Management and Organization - Non-TechnicalNASB
 A CPE: Earn About 1.0 CPE credit
DTEND:20240229T120000
DTSTAMP:20260425T081345
DTSTART:20240229T110000
LOCATION:
SEQUENCE:0
SUMMARY:Local Government Unclaimed Property Reporting Webinar
UID:0b971cfb-8fb7-4d14-8525-8f90293f7c3d
END:VEVENT
END:VCALENDAR
