BEGIN:VCALENDAR
VERSION:2.0
PRODID:-//ddaysoftware.com//NONSGML DDay.iCal 1.0//EN
BEGIN:VEVENT
DESCRIPTION:South Metro Chapter Board Meeting\nAgenda 
DTEND:20160108T093000
DTSTAMP:20260420T031127
DTSTART:20160108T083000
LOCATION:Cracker Barrel\, 18531 N Creek Dr\, Tinley Park\, IL 60477
SEQUENCE:0
SUMMARY:South Metro Chapter Board Meeting
UID:feeb4726-6496-4b05-baaa-0a5b26697311
END:VEVENT
END:VCALENDAR
