BEGIN:VCALENDAR
VERSION:2.0
PRODID:-//ddaysoftware.com//NONSGML DDay.iCal 1.0//EN
BEGIN:VEVENT
DESCRIPTION:This seminar is beneficial to anyone looking to help keep their
  business secure from fraud.  Learn about different ways fraud can happen 
 to your business as well as current trends and scams fraudsters are using.
   Fraud prevention controls that can be put in place to help protect your 
 business will also be discussed.  And steps you should take if your busine
 ss has fallen victim to fraud will be reviewed.  Lots of great information
 \, with something for everyone.\nPresenter: Sarah Young\, Vice President\,
  Next Step Program Manager for Regions Bank\n\nThis event is hosted by the
  Illinois GFOA. There is no cost to attend. Select check when prompted to 
 pay.\n\n \n \n\n \n\n\n\n\n\n\n
DTEND:20240222T110000
DTSTAMP:20260421T025636
DTSTART:20240222T100000
LOCATION:
SEQUENCE:0
SUMMARY:Free Virtual Roundtable: Protecting Your Business from Fraud: Preve
 ntion Awareness Tips for Your Business
UID:7c7bd671-7a4b-41c5-8633-60529ad34f24
END:VEVENT
END:VCALENDAR
