BEGIN:VCALENDAR
VERSION:2.0
PRODID:-//ddaysoftware.com//NONSGML DDay.iCal 1.0//EN
BEGIN:VEVENT
DESCRIPTION:Join the DEI Task Force for a day of service at Feed My Starvin
 g Children in Schaumburg\, IL on Wednesday\, June 26\, 2024 from 2:30 - 4 
 PM. Afterwards\, enjoy refreshments with colleagues. \n\n 
DTEND:20240626T160000
DTSTAMP:20260423T030908
DTSTART:20240626T143000
LOCATION:Feed My Starving Children\, 740 Wiley Farm Court\, Schaumburg\, IL
  60173
SEQUENCE:0
SUMMARY:Feed My Starving Children Volunteer Opportunity
UID:6fc95d4e-3be6-4ffe-a838-9f4e7d294135
END:VEVENT
END:VCALENDAR
