BEGIN:VCALENDAR
VERSION:2.0
PRODID:-//ddaysoftware.com//NONSGML DDay.iCal 1.0//EN
BEGIN:VEVENT
DESCRIPTION:Make plans to attend the Southern Region Lunch and Learn on "Kn
 ow When to Hold Em & Know When to Fold Em - How to Keep Local Records Stra
 ight without Going Bust" at the Wildey Theatre in Edwardsville\, IL! \nMan
 aging government records for agencies of any size is a gamble when there a
 re statues\, administrative codes and a slew of guidelines to follow.  Thi
 s session will put all the cards on the table\, providing information on b
 est practices in record keeping to ensure attendees walk away with knowled
 ge in spades. The speaker will share suggestions on managing local records
  effectively and review case studies\, and touch on hot topics like docume
 nt integrity\, security and converting to the digital age of records keepi
 ng.\nLearning Objectives:  Participants completing this session will be ab
 le to:\n\nDevelop an awareness of the various statutes\, guidelines and ad
 ministrative processes for managing local government records in Illinois\;
 \nIdentify Illinois State required documents necessary for compliant recor
 ds management\; and\nGain an understanding of safeguards against document 
 deterioration\, bad actors in the cybercrime sector and note potential vul
 nerabilities in the current records management processes.\n\nAGENDACheck-i
 n and Networking: 11:30 AM - 11:45 AMLuncheon: 11:45 AM Presentation: 12:0
 0 PM \nSpeaker:  Jennifer Flores\, Principal\, Lauterbach & Amen\, LLP\nIn
 tended Audience: Finance ProfessionalsDelivery Method: Group LiveProgram L
 evel: OverviewPrerequisites: No prerequisites requiredAdvanced Preparation
 : No advanced preparation requiredField of Study: Business Management and 
 Organization - Non-TechnicalLast Review/Revision/Update: August 2\, 2024NA
 SBA CPE Credits: Earn About 1.0 CPE credit
DTEND:20240802T130000
DTSTAMP:20260421T025814
DTSTART:20240802T113000
LOCATION:Wildey Theatre\, 252 North Main Street\, Edwardsville\, IL 62025
SEQUENCE:0
SUMMARY:Southern Region Lunch and Learn: How to Keep Local Records Straight
  without Going Bust
UID:b53c0917-667a-4587-8f1d-340f62cd72a3
END:VEVENT
END:VCALENDAR
