BEGIN:VCALENDAR
VERSION:2.0
PRODID:-//ddaysoftware.com//NONSGML DDay.iCal 1.0//EN
BEGIN:VEVENT
DESCRIPTION:\nCheck-in: 11:30 AM - 12:00 PMLuncheon: 12:00 PM - 1:30 PMNetw
 orking and Camaraderie: Immediately following the luncheon\nHoliday Fundra
 iserPlease consider supporting the Ruth Limpers' Scholarship Fund. Ruth Li
 mpers served IGFOA members for over two decades. Throughout her service\, 
 Ruth was dedicated to advancing the mission of the IGFOA and its leadershi
 p. In April 2021\, Ruth retired due to the progression of her ALS diagnosi
 s. On September 8\, 2021\, Ruth lost her battle with ALS. To honor her mem
 ory and commitment to IGFOA\, the Ruth Limpers' Scholarship Fund was creat
 ed to support the studies of students at accredited educational institutio
 ns interested in a career in public finance. For more information about th
 e scholarship and to donate click here. \n
DTEND:20241206T143000
DTSTAMP:20260423T002257
DTSTART:20241206T113000
LOCATION:Maggiano's Little Italy\, 1847 Freedom Drive\, Naperville\, Illino
 is 60563
SEQUENCE:0
SUMMARY:Chicago Metro Chapter Holiday Luncheon
UID:746ba951-4072-4e0f-b91f-6c1754d9fbcb
END:VEVENT
END:VCALENDAR
