BEGIN:VCALENDAR
VERSION:2.0
PRODID:-//ddaysoftware.com//NONSGML DDay.iCal 1.0//EN
BEGIN:VEVENT
DESCRIPTION:Make plans to join the IGFOA Executive Board\, Partners' Forum\
 , and Staff as they say "thank you" to all IGFOA members at a complimentar
 y member appreciation event. Come enjoy networking and camaraderie\, lunch
 \, and guest speaker Mike Duffy\, for a talk that will educate\, engage\, 
 and amuse. \nAbout Mike\n\nMike Duffy is a philanthropist and an author of
  five books on happiness\, resilience and success including: The Happiness
  Book: A Positive Guide To Happiness! He has a degree in psychology. He ha
 s built a Children’s hospital playroom in Kenya and a children’s hospital 
 playroom and music room at a hospital in Uganda. He provides free medical 
 care\, surgeries and life-saving medicine to children. As a top-rated insp
 irational and motivational public speaker\, his world-wide audiences inclu
 de corporations\, government organizations like the US Airforce\, non-prof
 its like AARP and universities including Stanford University where he has 
 guest lectured over the years. Mike Duffy started The Happiness Hall Of Fa
 me to recognize\, encourage and celebrate people and organizations that ma
 ke other people happy. Some of the many distinguished members of The Happi
 ness Hall Of Fame include: Muhammad Ali\, Wayne Gretzky\, Jack Nicklaus\, 
 Dolly Parton\, Tom Petty\, Steph Curry\, Serena Williams\, The Calgary Fla
 mes\, The Golden State Warriors\, The San Francisco Giants\, The Wounded W
 arrior Project\, Mother Teresa’s Missionaries of Charity and The Make-A- W
 ish foundation.\nDescription: In this entertaining\, motivational and insp
 irational talk\, Mike Duffy discusses many of the components of living you
 r best life now. He will be talking about how you can get more happiness a
 t home and at work. He will also touch on success strategies for your care
 er\, including five problem solving questions that you can use for any cha
 llenge. Resiliency will be explored as well as how to create your ideal li
 fe through his famous happiness formula.\nLearning Objectives:At the end o
 f this session\, participants will be able to:\n\nApply strategies to be h
 appier at work\nDemonstrate more resiliency\nApply strategies to be more s
 uccessful at work\nIdentify their multiple purposes in life\n\nEvent Overv
 iew11:30 - Noon: Networking - Cash bar  Noon - 12:45: Lunch12:45 - 1:45: P
 resentation (Coffee and desert served during presentation)   \nIntended Au
 dience: All government management & finance professionalsDelivery method: 
 Group-Live Program Level: BasicPrerequisites: No prerequisites requiredAdv
 anced Preparation: No advanced preparation requiredField of Study: Persona
 l Development - Non-TechnicalCPE Credits: Earn about 1.0 CPE credits
DTEND:20250508T140000
DTSTAMP:20260425T203906
DTSTART:20250508T113000
LOCATION:Chandler's Chophouse\, 401 N Roselle Rd\, Schaumburg\, IL 60194
SEQUENCE:0
SUMMARY:IGFOA Member Appreciation Reception
UID:1bbb80ee-28c5-4bf4-86e2-b02167f46d18
END:VEVENT
END:VCALENDAR
