BEGIN:VCALENDAR
VERSION:2.0
PRODID:-//ddaysoftware.com//NONSGML DDay.iCal 1.0//EN
BEGIN:VEVENT
DESCRIPTION:Guest speaker\, William McCarty\, City of Springfield\, Directo
 r - Office of Budget and Management and IGFOA Legislative Committee Co-Cha
 ir\, will provide a a brief legislative update on topics of municipal inte
 rest and relative to pending legislation with the General Assembly.   \nIf
  you have SPECIFIC legislative issues you wish Mr. McCarty to address\, pl
 ease send them toSandy Evans at  sevans@ofallon.org\, (618) 624-4500\, ext
 . 8723 prior to the luncheon.  This is a great opportunity to get to know 
 your fellow Treasurers and Finance Officers in Southern Illinois\, to disc
 uss current issues & topics of concern\, and participate in educational lu
 nch & learn events.\nAttendees are asked to submit specific legislative is
 sues they wish to discuss to .\nAgenda:  11:45am- Check-In and Networking 
                    12:00pm- Lunch/Presentation\nCost:    Attendees will or
 der off the menu and pay for their own lunch.
DTEND:20160408T133000
DTSTAMP:20260425T204918
DTSTART:20160408T114500
LOCATION:Bella Milano\, 455 Regency Park Drive\, O’Fallon\, IL
SEQUENCE:0
SUMMARY:Southwestern Region Downstate Luncheon - Legislative Update
UID:7deaa5bf-e086-48d3-bf17-5be723d1af5b
END:VEVENT
END:VCALENDAR
