BEGIN:VCALENDAR
VERSION:2.0
PRODID:-//ddaysoftware.com//NONSGML DDay.iCal 1.0//EN
BEGIN:VEVENT
DESCRIPTION:Join us for this Chicago Metro Chapter event on Monday\, April 
 21\, 2025 at the Village of Arlington Heights Police Department's Communit
 y Room. \nInsights from the Field: Uncovering Trends in Fraud Schemes & In
 vestigationsIt’s not a matter of “if” but “when” you or your organization 
 will be affected by fraud. Join us for this informative discussion to lear
 n about: \n\nThe latest fraud threats and tactics\nEfforts to combat fraud
 \nHow financial crimes are investigated\n\nLearning Objectives: Participan
 ts completing this session will be able to:\n\nIdentify the current financ
 ial fraud landscape including the latest schemes and risks\nRecognize how 
 you can protect yourself and your organization\nUnderstand how financial i
 nstitutions combat and investigate financial crimes\n\nEvent Timing:Check-
 in: 11:00 am – 11:10 amNetworking & Lunch: 11:10 am – 12:00 pmPresentation
 - 12:00 pm – 1:00 pmNetworking 1:00 pm – 1:30 pm\nSpeakers:Ray Olsen\, CFC
 I\, SVP\, Senior Director of Enterprise Fraud Management / Information Sec
 urity – Fraud & Loss Prevention\, Wintrust Financial CorporationAimee Bril
 es\, Senior Vice President\, Director of Government Banking\, Wintrust Fin
 ancial Corporation\nSpeaker Bios\nIntended Audience: All government manage
 ment & finance professionalsDelivery method: Group-Live Program Level: Ove
 rviewPrerequisites: No prerequisites requiredAdvanced Preparation: No adva
 nced preparation requiredField of Study: Auditing (Governmental) - Technic
 alCPE Credits: Earn about 1.0 CPE credits\nPreregistration closes on April
  17. After that\, please contact IGFOA. 
DTEND:20250421T133000
DTSTAMP:20260425T203332
DTSTART:20250421T110000
LOCATION:Arlington Heights Police Department\, 200 E Sigwalt St\, Arlington
  Heights\, IL 60005
SEQUENCE:0
SUMMARY:Chicago Metro Chapter Event - Insights from the Field: Uncovering T
 rends in Fraud Schemes & Investigations
UID:e7703317-81d5-4af3-8cd4-0f97c41f55b0
END:VEVENT
END:VCALENDAR
