BEGIN:VCALENDAR
VERSION:2.0
PRODID:-//ddaysoftware.com//NONSGML DDay.iCal 1.0//EN
BEGIN:VEVENT
DESCRIPTION:Overview of IT security trends and events businesses are facing
  in today’s environment.   Presentation will examine the rise in the numbe
 r of security breaches within organizations\, highlight security risks ass
 ociated with the increase in demand from mobile devices\, social media\, a
 nd cloud computing\, and review the process for setting up an Information 
 Security Program to address security risks and increasing data demands.   
  \nAgenda11:30 AM - Check-In and Networking12:00 PM - Chapter Business Mee
 ting12:15 PM - Lunch 12:30 PM - Presentation \nSpeaker:  F. Alex Brown\, P
 lante Moran\nLearning Objectives - Participants completing this session wi
 ll be able to:\n\nGain an understanding and assessment of technology threa
 ts organizations face in today’s environment.\nHighlight security risks as
 sociated with the increase in demand in new and emerging technology (e.g. 
 mobile devices\, social media\, and cloud computing)\nIdentify best practi
 ce tips for setting up an Information Security Program to address security
  risks and increasing data demands.\nUnderstand of the framework elements 
 required to build an effective Information Security Program\n\nIntended Au
 dience: All finance professionals\nDelivery method: Group LiveProgram Leve
 l: OverviewPrerequisites: No prerequisites required Advanced Preparation: 
 No advanced preparation requiredField of Study: Business Management & Orga
 nizationEarn about 1.0 CPE credit \nCPE hours: 1.00
DTEND:20160812T133000
DTSTAMP:20260419T145527
DTSTART:20160812T113000
LOCATION:Kallsen Center at Tinley Park Village Hall\, 16250 S. Oak Park Ave
 nue\, Tinley Park\, IL 60477
SEQUENCE:0
SUMMARY:South Metro Chapter Luncheon - Cyber Security Trends
UID:aba3c767-20cb-4f2a-bc9f-7d4b1bdf3a38
END:VEVENT
END:VCALENDAR
