BEGIN:VCALENDAR
VERSION:2.0
PRODID:-//ddaysoftware.com//NONSGML DDay.iCal 1.0//EN
BEGIN:VEVENT
DESCRIPTION:Join us at our upcoming GEN Lunch & Learn: Navigating the Futur
 e: AI Agents and the Evolution of Government Business Management!\nAgenda\
 n\n11:30 AM: Check-In and Networking\n11:50 PM: Lunch\n12:00 PM: Luncheon 
 Presentation Begins\n1:00 PM: Closing Remarks\n\nEvent Program and Speaker
  Bio\nOVERVIEW\nThursday May 7\, 2026\nNavigating the Future: AI Agents an
 d Evolution of Government Business Management \nSpeaker: Matthew Prozak\, 
 AI Sales Specialist\, Google Cloud \nNASBA CPE: Earn About 1.0 CPE Program
  Level: Overview Field of Study: lnformation Technology  \n\n\nIntended Au
 dience: All government management & finance professionals Delivery method:
  Group-LiveProgram Level: OverviewPrerequisites: No prerequisites required
 Advanced Preparation: No advanced preparation requiredField of Study: Info
 rmation TechnologyLast Review/Revision/Update: May 7\, 2026NASBA CPE: Earn
  about 1.0 CPE Hour
DTEND:20260507T130000
DTSTAMP:20260423T055733
DTSTART:20260507T113000
LOCATION:Maggiano's Little Italy Oak Brook\, 240 Oakbrook Ctr.\, Oak Brook\
 , IL 60523
SEQUENCE:0
SUMMARY:GEN Lunch & Learn: Navigating the Future: AI Agents and the Evoluti
 on of Government Business Management
UID:9d0f1150-7de8-45ee-9ed8-90cd16a6438a
END:VEVENT
END:VCALENDAR
