BEGIN:VCALENDAR
VERSION:2.0
PRODID:-//ddaysoftware.com//NONSGML DDay.iCal 1.0//EN
BEGIN:VEVENT
DESCRIPTION:Save the date for the upcoming GEN Mental Fitness for Finance L
 eaders: Lead Clearly Under Pressure event! A timed agenda and venue inform
 ation coming soon...\nCPE Session Information and Speaker Bio - will be up
 dated with time and venue information soon!\n\nOVERVIEW\nSession Title: Me
 ntal Fitness for Finance Leaders: Lead Clearly Under Pressure  \n\n\nSpeak
 er: Allyson Carter\, Coach & Consultant\, Coach for Growth \n\n\nMunicipal
  finance leaders operate in high-stakes\, high-visibility environments. Th
 ey manage competing priorities\, tight timelines\, public scrutiny\, and c
 ross-department pressure. Mental fitness is the skill of staying clear\, c
 alm\, and effective under that pressure\, so leaders can communicate well\
 , make sound decisions\, and lead teams without burning out. Participants 
 will complete a brief assessment in advance. Allyson will aggregate the re
 sults and share a conference-level snapshot (no individual data shared). F
 or an audience that appreciates data\, this creates a concrete\, numbers-b
 ased starting point and makes the session immediately relevant to what lea
 ders in the room are experiencing. \nDelivery method: Group-LiveProgram Le
 vel: OverviewPrerequisites: No prerequisites requiredAdvanced Preparation:
  Participants will be asked (via email) to complete a pre-assessment befor
 e the event\, which will be discussed during the sessionField of Study: Pe
 rsonal DevelopmentLast Review/Revision/Update: NASBA CPE: Earn about 1.0 C
 PE Hour\n
DTEND:20260812T080000
DTSTAMP:20260421T121130
DTSTART:20260812T080000
LOCATION:
SEQUENCE:0
SUMMARY:GEN Mental Fitness for Finance Leaders: Lead Clearly Under Pressure
  
UID:e743defd-e296-4b29-80d7-f55a3d337368
END:VEVENT
END:VCALENDAR
