BEGIN:VCALENDAR
VERSION:2.0
PRODID:-//ddaysoftware.com//NONSGML DDay.iCal 1.0//EN
BEGIN:VEVENT
DESCRIPTION:Preparing for the Next Step in Your Career\nThis session will p
 rovide valuable knowledge to those who have recently joined the government
  sector or a new community as well as the seasoned veterans of our organiz
 ation looking to move into a Finance Director role at their current commun
 ity or another community.  Guest speaker\, Heidi Voorhees of GovHR USA wil
 l present steps finance professionals can take right now to enhance their 
 career including how to prepare your resume\, how to ensure you are on you
 r community's radar for promotion\, and what to expect in the interview pr
 ocess. \nAgenda11:00 AM - Check-In and Networking11:30 AM - Lunch 12:30 PM
  - Presentation\nI want to encourage all IGFOA members to attend the Assis
 tant’s Network its always great to get involvement from the entire members
 hip.  The network will target speakers and presenters that offer target th
 emes in the arena of management\, leadership\, coaching\, motivation and o
 ther supplemental tools to develop our membership for the future.  Please 
 encourage your Assistant Finance Directors\, Finance Managers\, Accounting
  Supervisors\, Accountants\, Management Analysts\, and other staff to atte
 nd our events.    \nAndrew D. Brown\, Deputy Director of FinanceVillage of
  Buffalo Grove\nPlease include on the registration form your lunch selecti
 on from the choices below:\n1.) The Pot Roast – Mashed Redskin Potato’s\n2
 .) The Southwest Veggie Wrap – Fries\n3.) The Chicken Piccata – Broccoli a
 nd Rice 
DTEND:20160224T133000
DTSTAMP:20260425T080935
DTSTART:20160224T110000
LOCATION:Westwood Tavern and Tap\, 1385 N. Meacham Rd.\, Schaumburg\, IL 60
 173
SEQUENCE:0
SUMMARY:IGFOA Assistants' Network Event - Preparing For The Next Step In Yo
 ur Career
UID:09f26288-cc14-4af3-bedc-cd2ca66eee4c
END:VEVENT
END:VCALENDAR
