BEGIN:VCALENDAR
VERSION:2.0
PRODID:-//ddaysoftware.com//NONSGML DDay.iCal 1.0//EN
BEGIN:VEVENT
DESCRIPTION:New accounting and auditing standards go into effect in 2016 wh
 ich will greatly impact the state and local government landscape. Prepare 
 to address these changes and avoid common pitfalls faced by organizations 
 adopting these new standards.\nThe 2016 Government Conference equips each 
 attendee with the tools and techniques needed to plan for the impending ch
 anges and provide clients with the highest level of service to mitigate an
 y challenges the new standards create. Earn up to nine essential Yellow Bo
 ok credits as you return to the office well prepared to face the coming ye
 ar.\nAgenda and Registration Information
DTEND:20160426T170000
DTSTAMP:20260421T105525
DTSTART:20160426T085000
LOCATION:The Crowne Plaza Hotel \, 3000 S Dirksen Pkwy Springfield 62703-45
 04\, Springfield 62703-4504
SEQUENCE:0
SUMMARY:ICPAS Government Conference - Springfield\, IL
UID:c6ee0edd-4fcf-4d0c-983a-33ecafaf60b4
END:VEVENT
END:VCALENDAR
