BEGIN:VCALENDAR
VERSION:2.0
PRODID:-//ddaysoftware.com//NONSGML DDay.iCal 1.0//EN
BEGIN:VEVENT
DESCRIPTION:Jim Grammas and Tonya Bragg of BMO Harris Bank will discuss “Ma
 naging Your Payment Fraud Risk”.
DTEND:20160419T130000
DTSTAMP:20260422T102229
DTSTART:20160419T120000
LOCATION:Giovanni's Restaurant\, 610 N Bell School Rd\, Rockford\, IL
SEQUENCE:0
SUMMARY:Rock River Region Networking Luncheon
UID:f65fdf3d-c5c7-471a-809d-d77e1806685c
END:VEVENT
END:VCALENDAR
