BEGIN:VCALENDAR
VERSION:2.0
PRODID:-//ddaysoftware.com//NONSGML DDay.iCal 1.0//EN
BEGIN:VEVENT
DESCRIPTION:Enter park at the GOLF ENTRANCE\nPlease join the IGFOA Executiv
 e Board for a celebration of IGFOA's 2016 Partners!  The luncheon is being
  held on May 19\, 2016 at the Cantigny Park\, 27W270 Mack Road\, Wheaton\,
  IL 60189 from Noon to 2:00 PM in the  Red Oak Room. \nAll are welcomed to
  attend\, registration required. \nDirections - http://www.cantigny.org/vi
 sit/general-info/directions  - please enter park at the GOLF ENTRANCE
DTEND:20160519T140000
DTSTAMP:20260420T010114
DTSTART:20160519T120000
LOCATION:Cantigny Park\, 27W270 Mack Road\, Red Oak Room\, Wheaton\, IL 601
 89
SEQUENCE:0
SUMMARY:IGFOA Partner Appreciation Luncheon
UID:d6d2736b-f81e-4ec8-9394-3a03e6a2d7a6
END:VEVENT
END:VCALENDAR
