BEGIN:VCALENDAR
VERSION:2.0
PRODID:-//ddaysoftware.com//NONSGML DDay.iCal 1.0//EN
BEGIN:VEVENT
DESCRIPTION:South Metro Chapter Board Meeting
DTEND:20171117T093000
DTSTAMP:20260425T130435
DTSTART:20171117T083000
LOCATION:Cracker Barrel\, 18531 N Creek Dr\, Tinley Park\, IL 60477
SEQUENCE:0
SUMMARY:South Metro Chapter Board Meeting
UID:943a1092-84be-4d2f-b964-fd5eae98b400
END:VEVENT
END:VCALENDAR
