BEGIN:VCALENDAR
VERSION:2.0
PRODID:-//ddaysoftware.com//NONSGML DDay.iCal 1.0//EN
BEGIN:VEVENT
DESCRIPTION:Presented by The Illinois City/County Management Association\, 
 Illinois Government Finance Officers Association\, and the Northern Illino
 is University Center for Governmental Studies Civic Leadership Academy\nCL
 ICK HERE TO REGISTER ONLINE OR PRINT REGISTRATION FORM \nPROGRAM AGENDA CR
 EDITS:  CEU - Earn 0.5CPE - Earn 6 (issued by the Illinois Department of F
 inancial and Professional Regulation)\nCheck in and continental breakfast:
  8:00 - 8:45 am\, Seminar: 8:45 am – 3:30 pm
DTEND:20170120T153000
DTSTAMP:20260423T093838
DTSTART:20170120T080000
LOCATION: Harry Caray’s (Lombard - Inside the Westin Hotel)\, 70 Yorktown C
 enter \, Lombard\, 60148
SEQUENCE:0
SUMMARY:Illinois Financial Forecast Forum: Private Sector Views that Impact
  the Public Sector
UID:65bf7af0-88dd-4a54-9fd4-7a0bfcc1d107
END:VEVENT
END:VCALENDAR
