BEGIN:VCALENDAR
VERSION:2.0
PRODID:-//ddaysoftware.com//NONSGML DDay.iCal 1.0//EN
BEGIN:VEVENT
DESCRIPTION:Guest speaker\, Frank Haney\, Winnebago County Board Chairman 
DTEND:20170323T130000
DTSTAMP:20260419T173953
DTSTART:20170323T120000
LOCATION:Tavern on Clark\, 755 Clark Drive\,\, Rockford\, IL 61104
SEQUENCE:0
SUMMARY:Rock River Region Networking Luncheon
UID:1fbccd60-a555-4870-85a7-ffa3f7cde2a1
END:VEVENT
END:VCALENDAR
