BEGIN:VCALENDAR
VERSION:2.0
PRODID:-//ddaysoftware.com//NONSGML DDay.iCal 1.0//EN
BEGIN:VEVENT
DESCRIPTION:The Illinois Government Finance Professionals Academy is design
 ed to provide a solid foundation of skills\, knowledge\, and an appreciati
 on of the unique environment and dynamics of professional government finan
 ce practices in Illinois.  Participants will gain a practical and relevant
  understanding of the fundamental concepts underlying state and local gove
 rnmental accounting and reporting while engaging in networking opportuniti
 es throughout the two-day Academy.\nWho Should Attend• Professionals who w
 ork in government and public accounting with limited experience in governm
 ental accounting and financial reporting• New finance department personnel
  seeking an overview of government finance• Non-finance professionals such
  as department heads and assistant department heads whose primary duties a
 re unrelated to finance• Elected officials unfamiliar with government fina
 nce\nAGENDA and SPEAKERS (download pdf document)\nLearning Objectives:  Pa
 rticipants completing this session will be able to: (click here)Prerequisi
 tes: NoneAdvanced preparation required: No advanced preparation requiredDe
 livery method: Group-liveCPE program level: OverviewField of Study: Accoun
 ting\, Finance\, Business Management & OrganizationCPE credits : About 14 
 CPE hours\nThe training will be held in Conference Room C of the IWireless
  Center.  Lunch is included each day.\nHOTEL ACCOMMODATIONSRadisson on Joh
 n Deere Commons-Moline\, 1415 River Dr\, Moline\, IL 61265less than .5 mil
 es to I Wireless CenterPhone: (309) 764-1000King Room - $116 plus tax\, Qu
 een Room - $106 plus tax\n\nStoney Creek Hotel\, 101 18th St\, Moline\, IL
 \, 61265.5 miles to I Wireless CenterPhone: 866-538-9483Fairfield Inn By M
 arriott\, 2705 48th Ave\, Moline\, IL\, 612653.1 miles to I Wireless Cente
 rPhone: 888-675-8872Country Inn & Suites \, 2721 69th Avenue Ct\, Moline\,
  IL\, 612653.8 miles to I Wireless CenterPhone: 888-734-8507\n
DTEND:20170420T163000
DTSTAMP:20260422T130028
DTSTART:20170419T083000
LOCATION:iWireless Center\, 1201 River Dr\, Conference Room C\, Moline\, IL
  61265
SEQUENCE:0
SUMMARY:Illinois Government Finance Professionals' Academy I - 2017
UID:d1294aba-8846-4b5a-8ccd-841bf0af526c
END:VEVENT
END:VCALENDAR
