BEGIN:VCALENDAR
VERSION:2.0
PRODID:-//ddaysoftware.com//NONSGML DDay.iCal 1.0//EN
BEGIN:VEVENT
DESCRIPTION:EVENT IS SOLD OUT - NO WALK-INS\nJoin your colleagues to networ
 k and celebrate the holiday season!\nAgendaCheck-in: 11:30 AM - 12:30 PMLu
 ncheon: 12:30 PMChapter Board Business Meeting: 1:30 PM - AgendaAfter Lunc
 h - Networking \nCHARITYThe Chicago Metro Chapter is sponsoring the Epilep
 sy Foundation of Greater Chicago at this year’s luncheon. The Epilepsy Fou
 ndation of Greater Chicago is a not-for-profit organization serving 43 cou
 nties in Illinois. The Foundation offers education\, advocacy\, and case m
 anagement to people living with epilepsy\, their families\, and the commun
 ities in which they live. Please see donation information below.\nLink to 
 donation page: https://epilepsychicago.donordrive.com/index.cfm?fuseaction
 =donate.general\n(Cash or check) to Epilepsy Foundation of Greater Chicago
  will be accepted on the day of the luncheon. 
DTEND:20181130T150000
DTSTAMP:20260421T025957
DTSTART:20181130T113000
LOCATION:Harry Caray's Ballroom\, 70 Yorktown Shopping Center\, Lombard\, I
 llinois 60148
SEQUENCE:0
SUMMARY:Chicago Metro Chapter Holiday Luncheon
UID:6186d173-ef8b-4a5b-9802-dd12a5090489
END:VEVENT
END:VCALENDAR
