BEGIN:VCALENDAR
VERSION:2.0
PRODID:-//ddaysoftware.com//NONSGML DDay.iCal 1.0//EN
BEGIN:VEVENT
DESCRIPTION:Presented by the Young Professionals NetworkLessons Learned Fro
 m a Career in Municipal Finance\nGuest Speaker is Mr. Michael D. Belsky\, 
 Executive Director of the Center for Municipal Finance at the Harris Schoo
 l of Public Policy\, University of Chicago.  Mike Belsky’s career journey 
 has been highlighted by positions at the highest levels of municipal gover
 nment leadership. His time as Mayor of one of the most well-regarded subur
 bs in Chicagoland\, head of Public Finance for both Mesirow Financial and 
 Fitch Ratings Agency\, and his current role as the Executive Director of U
 niversity of Chicago’s Center for Municipal Finance have provided him with
  a well-rounded perspective of all areas of public finance. In this presen
 tation\, he will lean on those unique experiences to provide anecdotal acc
 ounts of what he has seen and learned in the hopes of shaping today’s youn
 g professionals into tomorrow’s municipal finance leaders.\nBiography - Mi
 chael D. Belsky\nAGENDA11:30 AM – Registration and Networking12:00 PM – Lu
 nch and PresentationLunch is included in the registration fee.
DTEND:20170207T140000
DTSTAMP:20260419T174530
DTSTART:20170207T113000
LOCATION:Uncle Julio's - Old Orchard \, 4999 Old Orchard Center \, Skokie\,
  IL 60077
SEQUENCE:0
SUMMARY: Lessons Learned From a Career in Municipal Finance
UID:2fe92bc4-15c7-4da3-9ed8-63413aeafa90
END:VEVENT
END:VCALENDAR
