BEGIN:VCALENDAR
VERSION:2.0
PRODID:-//ddaysoftware.com//NONSGML DDay.iCal 1.0//EN
BEGIN:VEVENT
DESCRIPTION:Come out and Network with the current and future Village Manage
 r’s of Illinois! This is a great opportunity to network with the Illinois 
 Association of Municipal Management Assistants and other government admini
 stration professionals.\nThis registration is for IGFOA Members that are n
 ot registered for the 2017 IAMMA Annual Conference but wish to attend the 
 After Conference Social Event.\nThe Illinois Association of Municipal Mana
 gement Assistants (IAMMA) represents professionals working in municipal ma
 nagement throughout the State of Illinois. IAMMA’s membership includes pro
 fessionals serving as assistant administrators/managers\, administrative i
 nterns\, assistant department managers and directors in Illinois municipal
 ities\, counties\, and councils of government. This Association is charged
  with fostering and encouraging the personal and professional development 
 of its members so they may better serve their communities and exemplify hi
 gh ethical standards in municipal management.
DTEND:20170421T180000
DTSTAMP:20260425T052318
DTSTART:20170421T160000
LOCATION:Eddie Merlots\, 28254 Diehl Road\, Warrenville\, IL
SEQUENCE:0
SUMMARY:After Conference Social Event - 2017 IAMMA Annual Conference
UID:0aa744ed-ba3a-4454-81df-9ccc4b65e6a6
END:VEVENT
END:VCALENDAR
