BEGIN:VCALENDAR
VERSION:2.0
PRODID:-//ddaysoftware.com//NONSGML DDay.iCal 1.0//EN
BEGIN:VEVENT
DESCRIPTION:Effective ERP software is critical to everyday life in public s
 ector organizations.  Our panel will discuss how to OWN your implementatio
 n from the beginning of the process to surviving the implementation proces
 s and important steps after the trainers have gone home.  Join us to hear 
 from experts who have gone through the process and what they feel is most 
 important to make sure your software is implemented in what works best for
  your organization.\nLunch will be provided.\nCheck-in: 11:30Session:  12:
 00 – 2:30 \nSpeakers:  Nadine Alletto\, Director of Finance\, Village of W
 oodridgeMichael Duebner\, Director of Innovation\, Village of Lake ZurichM
 ary Smith\, Baecore Group \nAny questions\, contact Jodie Hartman at Jodie
 .hartman@lakezurich.org or 847-540-1686.
DTEND:20171013T143000
DTSTAMP:20260423T141228
DTSTART:20171013T113000
LOCATION:Village of Streamwood Village Hall\, 301 East Irving Park Road\, S
 treamwood\, IL 60107
SEQUENCE:0
SUMMARY:Chicago Metro Chapter Luncheon - Owning Your ERP Implementation
UID:9253cc86-3dd3-448c-a751-09d2a4aa01cf
END:VEVENT
END:VCALENDAR
