BEGIN:VCALENDAR
VERSION:2.0
PRODID:-//ddaysoftware.com//NONSGML DDay.iCal 1.0//EN
BEGIN:VEVENT
DESCRIPTION:The Governmental Accounting Standards Board (GASB) has issued a
  number of pronouncements impacting all units of government in Illinois.  
 This webinar will build on the GAAP update session held in September 2017 
 at the IGFOA conference in Peoria.  The webinar will have a detailed discu
 ssion of each pronouncement and provide hands on experience using case stu
 dies on how the pronouncements will impact governments in Illinois.  In ad
 dition\, this webinar will update participants on GASB's project agenda an
 d major projects in progress\, including an update on the proposed new rep
 orting model for governmental funds\nLearning Objectives: Participants com
 pleting this session will be able to:1. Learn about the recent pronounceme
 nts issued by GASB\;2. Understand how those pronouncements will impact gov
 ernments in Illinois\;3. Explore case studies that demonstrate the practic
 al application of GASB pronouncements on IL local governments\;4. Review t
 he status of major projects in progress on GASB’s project agenda\; and\,5.
  Gain knowledge of key decisions made to date by the GASB on those project
 s.  \nInstructors:Lisa Parker\, Senior Project Manager\, GASBFrederick G. 
 Lantz\, CPA\, Partner in charge\, Government Services\, Sikich LLP \nInten
 ded Audience: Finance ProfessionalsDelivery method: Group Internet BasedPr
 ogram Level: OverviewPrerequisites: No prerequisites required Advanced Pre
 paration: No advanced preparation requiredField of Study: Accounting (Gove
 rnmental) - TechnicalEarn about 2.0 CPE creditIGFOA reserves the right to 
 modify the agendas and/or speakers\, cancel the trainings due to low enrol
 lment\, or to close registration if full.  
DTEND:20180322T120000
DTSTAMP:20260419T174825
DTSTART:20180322T100000
LOCATION:
SEQUENCE:0
SUMMARY:GAAP Update for Illinois Governments - Webinar
UID:d06bd32c-5b0f-405c-b5de-bccb3884dc32
END:VEVENT
END:VCALENDAR
