BEGIN:VCALENDAR
VERSION:2.0
PRODID:-//ddaysoftware.com//NONSGML DDay.iCal 1.0//EN
BEGIN:VEVENT
DESCRIPTION:QUALIFIES FOR 8 HOURS OF IL DEPT. OF INSURANCE ANNUAL PUBLIC PE
 NSION TRUSTEE CONTINUING EDUCATION REQUIREMENTS\nIntended Audience:  Finan
 ce Directors\, Managers\, Administrators\, Accountants\, Assistant Manager
 s\, Assistant Finance Directors\, Pension Board Trustees\, and professiona
 l staff and officials required to meet the IL Department of Insurance annu
 al public pension trustee continuing education requirements or interested 
 in local government pension issues. \nSeminar description: A full day semi
 nar addressing relevant issues in local government pension management.Sess
 ion Description\, Speakers\, and Learning Objectives - click hereDelivery 
 Method: Group-LiveProgram Level: OverviewPrerequisites: No prerequisites r
 equiredAdvanced Preparation: No advanced preparation requiredField of Stud
 y: Accounting (Governmental) - Technical - 1.5Behaviorial Ethics-Non-Techn
 ical - 1.5Business Management & Organization-Non-Technical - 3.0Finance-Te
 chnical - 2.0 CPE Credits: Earn about 8.0 CPE CreditsIGFOA reserves the ri
 ght to modify the agendas and/or speakers\, cancel the trainings due to lo
 w enrollment\, or to close registration if full.  
DTEND:20181108T163000
DTSTAMP:20260422T001842
DTSTART:20181108T082500
LOCATION:NIU Naperville\, 1120 East Diehl Road - Room 265\, Naperville\, IL
  60563
SEQUENCE:0
SUMMARY:Illinois Public Pension Institute - Part II
UID:d16133ec-2db4-4ac2-a9d4-61da3c43a3cf
END:VEVENT
END:VCALENDAR
