BEGIN:VCALENDAR
VERSION:2.0
PRODID:-//ddaysoftware.com//NONSGML DDay.iCal 1.0//EN
BEGIN:VEVENT
DESCRIPTION:Property Valuation & Data Collection\, Knowledge is SavingsThis
  session will discuss where to start when performing a building and/or con
 tent valuation.  Essential Items to be considered and that will be discuss
 ed are:-Where you start and what items need to be considered when doing a 
 valuation.  Decide on things such as: do you need buildings\, site improve
 ments and equipment appraised\;-Review and evaluate the scope of service t
 o ensure you are meeting your needs and requirements\;-How to put together
  a model for success\;-Discuss the benefits of a professional appraisal\; 
 and-FAQ’s and fallacies that surround building appraisals.\nSpeaker: Brian
  Roe\, Managing Director\, CBIZ Valuation Group\, LLC\nLearning Objectives
  - Participants completing this session will be able to:- Differentiate be
 tween Replacement Cost and Reproduction Cost\;- Understand some of the fal
 lacies of building valuations\; and\,- Gain knowledge of points to conside
 r when having a professional appraisal.Intended Audience: Finance Professi
 onalsDelivery Method: Group-LiveProgram Level: OverviewPrerequisites: No p
 rerequisites requiredAdvanced Preparation: No advanced preparation require
 dField of Study: Finance - TechnicalEarn About 1.0 CPE credit\nIncludes Lu
 nch
DTEND:20180406T130000
DTSTAMP:20260425T120051
DTSTART:20180406T113000
LOCATION:Balagio of Mokena\, 9716 West 191st St.\, Mokena\, IL 60448
SEQUENCE:0
SUMMARY:South Metro Chapter - Property Valuation & Data Collection\, Knowle
 dge is Savings
UID:1ff0f090-5131-4b43-9363-0c8c6489dd75
END:VEVENT
END:VCALENDAR
