BEGIN:VCALENDAR
VERSION:2.0
PRODID:-//ddaysoftware.com//NONSGML DDay.iCal 1.0//EN
BEGIN:VEVENT
DESCRIPTION:This lunch & learn will discuss best practices in managing Capi
 tal Assets and complying with GASB Statement No. 34 reporting requirements
 . Learn how to identify and classify capital assets according to designate
 d thresholds. Then delve into the capitalization/depreciation of assets\, 
 goals for best practices\, and implementing internal controls. The session
  will also look at the importance of creating a plan to consistently manag
 e assets on an annual basis.Learning Objectives: Participants completing t
 his program will be able to:1. Learn how to define and identify Capital As
 sets\;2. Understand best practices for managing Capital Assets and creatin
 g Internal Controls over assets\; and\,3. Understand how to interpret and 
 process findings.\nSpeaker: Sean R. Rager\, CPA\, CSRM\, President\, Asset
  Control Solutions\, Inc. Moderator: Kim Falco\, Director of Business Deve
 lopment\, Asset Control Solutions\, Inc.\nDelivery method: Group-LiveProgr
 am Level: UpdatePrerequisites: No prerequisites requiredAdvanced Preparati
 on: No advanced preparation requiredField of Study: Finance -TechnicalCPE 
 Credits: Earn about 1.0 CPE credits
DTEND:20181129T130000
DTSTAMP:20260420T210610
DTSTART:20181129T120000
LOCATION:Tavern on Clark\, 755 Clark Drive\, Rockford\, IL 61104
SEQUENCE:0
SUMMARY:Rock River Region Luncheon: Best Practices in Managing Capital Asse
 ts
UID:8ae737a8-b48c-4aa7-8ea4-efb487ff6314
END:VEVENT
END:VCALENDAR
