BEGIN:VCALENDAR
VERSION:2.0
PRODID:-//ddaysoftware.com//NONSGML DDay.iCal 1.0//EN
BEGIN:VEVENT
DESCRIPTION:Description: Bag your lunch and join IGFOA Chicago Metro collea
 gues for a gab session on implementing GASB 67 & 68 with guest speaker Bri
 an Caputo.\nFee: No fee - bring your own lunch!
DTSTAMP:20260423T193703
DTSTART;VALUE=DATE:20140425
LOCATION:Highland Park Police Department Conference Room\, 1677 Old Deerfie
 ld Road\, Highland Park\, IL
SEQUENCE:0
SUMMARY:Bag and Gab - Implementing GASB 67 & 68
UID:4cf5480e-0de3-436a-a985-f160169baa5b
END:VEVENT
END:VCALENDAR
