BEGIN:VCALENDAR
VERSION:2.0
PRODID:-//ddaysoftware.com//NONSGML DDay.iCal 1.0//EN
BEGIN:VEVENT
DESCRIPTION:South Metro Chapter Board Meeting
DTEND:20180105T093000
DTSTAMP:20260425T130842
DTSTART:20180105T083000
LOCATION:Cracker Barrel\, 18531 N Creek Dr\, Tinley Park\, IL 60477\, IL 60
 477
SEQUENCE:0
SUMMARY:South Metro Chapter Board Meeting
UID:35e75a03-5410-4e91-a360-172fd80d4448
END:VEVENT
END:VCALENDAR
