BEGIN:VCALENDAR
VERSION:2.0
PRODID:-//ddaysoftware.com//NONSGML DDay.iCal 1.0//EN
BEGIN:VEVENT
DESCRIPTION:Please join us as we celebrate the holidays at the Central Regi
 on Holiday Luncheon! Participants will take an internal look at their defi
 nition of work life balance and will learn tips and tricks to help get a h
 andle on how well they are doing and what they can do better.  Guest speak
 er\, Loren Sanders\, is a professional synergist who focuses on building b
 etter teams and better outcomes. Loren has a B.S. in Community Health from
  University of Illinois and an MBA in Organizational Behavior from Lake Fo
 rest Graduate School of Management\, where she teaches Strategic Talent Ma
 nagement.\nAGENDA11:30 AM - Check-in and Networking12:00 PM - Luncheon12:3
 0 PM - Presentation\nLearning Objectives:  Participants completing this se
 ssion should be able to: \n\n Identify the personal perceptions that impac
 t work life balance\n Explore work life balance and how it applies to you\
 n Determine accountability triggers that help and hurt attempts at work li
 fe balance\n Gain strategies for managing work life balance\n\nDelivery Me
 thod: Group-LiveProgram Level: OverviewPrerequisites: No prerequisites req
 uiredAdvanced Preparation: No advanced preparation requiredField of Study:
  Personal Development - Non-TechnicalEarn About 1.0 CPE credit
DTEND:20181214T140000
DTSTAMP:20260420T115727
DTSTART:20181214T113000
LOCATION:Medici's\, 120 North Street\, Normal\, IL 61761
SEQUENCE:0
SUMMARY:Central Region Holiday Luncheon – Achieving a Healthy Work Life Bal
 ance
UID:98ab49dd-754f-467f-966b-d1e047d48836
END:VEVENT
END:VCALENDAR
