BEGIN:VCALENDAR
VERSION:2.0
PRODID:-//ddaysoftware.com//NONSGML DDay.iCal 1.0//EN
BEGIN:VEVENT
DESCRIPTION:Strong leadership skills are essential in today’s government wo
 rk environment.  With continually increasing demands placed on today’s gov
 ernment management professionals\, anyone in a leadership role must contin
 ually strive to improve in their ability to lead. From newly elected offic
 ials\, department heads\, and supervisors to the most seasoned\, this one-
 day program is for everyone as it examines core leadership skills and offe
 rs a plan for the challenges ahead. \nSpeaker: Darryl Harris\, The Carroll
 -Keller GroupDarryl Harris has 30 years of experience helping organization
 s and individuals improve their effectiveness. His expertise in the people
  development arena – leadership\, team building\, negotiating\, customer s
 ervice\, interpersonal and intra-personal improvement – enables him to imp
 rove productivity\, processes\, skills and working relationships within or
 ganizations.\nLearning Objectives: Participants completing this program wi
 ll be able to:\n\nUnderstand the characteristics of successful leaders\nUn
 derstand the process of setting and achieving goals\nUnderstand the differ
 ence between leading and managing\nUnderstand the role of Emotional Intell
 igence in a Leadership position\nUnderstand the importance of sharing a vi
 sion and the role that every employee plays in contributing towards achiev
 ing that goal\nIdentify various Leadership styles\nCreate a positive\, mot
 ivated environment that allows employees to grow\n\nAGENDA• 8:00 AM-8:30 A
 M: Check-in• 8:30 AM-12:00 PM: Presentation• 12:00 PM-1:00 PM: Lunch\nInte
 nded Audience: All government management & finance professionalsDelivery m
 ethod: Group-Live Program Level: UpdatePrerequisites: No prerequisites req
 uiredAdvanced Preparation: No advanced preparation requiredField of Study:
  Finance - Technical\, Personal Development - Non-Technical CPE Credits: E
 arn about 4.0 CPE credits
DTEND:20180530T130000
DTSTAMP:20260425T063536
DTSTART:20180530T080000
LOCATION:Village of Hoffman Estates\, 1900 Hassell Road\, Hoffman Estates\,
  IL 60169
SEQUENCE:0
SUMMARY:Chicago Metro Chapter - Essential Leadership Skills
UID:d040e16a-ce7a-4ebb-9990-24880c71e78b
END:VEVENT
END:VCALENDAR
