BEGIN:VCALENDAR
VERSION:2.0
PRODID:-//ddaysoftware.com//NONSGML DDay.iCal 1.0//EN
BEGIN:VEVENT
DESCRIPTION:Intended Audience:  IGFOA TARC Committee Members.  Interested i
 n participating in the TARC Committee\, contact the IGFOA at execdir@igfoa
 .org.\nThe Technical Accounting Review Committee monitors and comments on 
 activities and rulings of the Governmental Accounting Standards Board (GAS
 B). The committee provides testimony on GASB standards and educates the IG
 FOA membership on those standards. AgendaA. GASB Invitation to Comment: Re
 venue and Expense Recognition – Comment Deadline April 27\, 2018B. Other B
 usiness\nLearning Objectives – This meeting is eligible for CPE credit.• R
 eview\, discuss and develop responses to  GASB Invitation to Comment:  Rev
 enue and Expense recognition• Expand your familiarity of  the accounting a
 nd financial reporting challenges faced by local governments in Illinois a
 s a result of new accounting standards through interaction with fellow acc
 ounting and finance professionals\nDelivery method: Group-LiveProgram Leve
 l: AdvancedPrerequisites: IGFOA TARC Committee MemberField of Study: Accou
 nting (Governmental) - TechnicalAdvanced Preparation: noneCPE: Earn about 
 2.0 CPE\n
DTEND:20180403T150000
DTSTAMP:20260423T050936
DTSTART:20180403T130000
LOCATION:CM Services\, Inc.\, 800 Roosevelt Road\, Building C - Suite 312\,
  Glen Ellyn\, IL 60137
SEQUENCE:0
SUMMARY:Technical Accounting Review Committee
UID:3b861e3f-9964-4c33-8c5f-bcda14e7da92
END:VEVENT
END:VCALENDAR
