BEGIN:VCALENDAR
VERSION:2.0
PRODID:-//ddaysoftware.com//NONSGML DDay.iCal 1.0//EN
BEGIN:VEVENT
DESCRIPTION:Come out and Network with the current and future Village Manage
 r’s of Illinois! This is a great opportunity to network with the Illinois 
 Association of Municipal Management Assistants and other government admini
 stration professionals.\nThis registration is for IGFOA Members that are n
 ot registered for the 2018 IAMMA Annual Conference but wish to attend the 
 After Conference Social Event.\nThe Illinois Association of Municipal Mana
 gement Assistants (IAMMA) represents professionals working in municipal ma
 nagement throughout the State of Illinois. IAMMA’s membership includes pro
 fessionals serving as assistant administrators/managers\, administrative i
 nterns\, assistant department managers and directors in Illinois municipal
 ities\, counties\, and councils of government. This Association is charged
  with fostering and encouraging the personal and professional development 
 of its members so they may better serve their communities and exemplify hi
 gh ethical standards in municipal management.
DTEND:20180413T180000
DTSTAMP:20260420T220045
DTSTART:20180413T160000
LOCATION:Eddie Merlots\, 28254 Diehl Road\, Warrenville\, IL 60555
SEQUENCE:0
SUMMARY:Post Conference Social Event - 2018 IAMMA Annual Conference
UID:1d59364e-3889-4c52-b2c2-3743e8811458
END:VEVENT
END:VCALENDAR
