BEGIN:VCALENDAR
VERSION:2.0
PRODID:-//ddaysoftware.com//NONSGML DDay.iCal 1.0//EN
BEGIN:VEVENT
DESCRIPTION:This hands on seminar will provide participants with a solid kn
 owledge of Generally Accepted Accounting Principles in the governmental ac
 counting environment and how to apply those standards to all types of unit
 s of government in Illinois. Emphasis will be placed on understanding both
  the theory behind the principles via live lectures as well as the practic
 al application and implementation of those principles using learning reinf
 orcement tools.\nLearning Objectives: Participants completing this session
  will be able to:\n\nDevelop a thorough understanding of the twelve basic 
 principles of Generally Accepted   Accounting Principles in the government
 al accounting environment.\nUnderstand the convergence of budgets and repo
 rting.\nAcquire extensive insight into governmental fund revenue recogniti
 on for exchange and non-exchange transactions\, expenditure recognition fo
 r fund liabilities and expense liabilities for governmental activities.\nL
 earn debt service fund and long-term debt accounting\, including accountin
 g for refunding transactions.\nUnderstand capital asset accounting and rep
 orting requirements.\nUnderstand the differences in accounting for proprie
 tary funds.\n\nInstructors: Frederick G. Lantz\, CPA\, Partner-in-Charge\,
  Government Services\, Sikich LLPBill Hannah\, Finance Director/Treasurer\
 , Village of North Aurora\nIntended Audience: Finance ProfessionalsDeliver
 y Method: Group-LiveProgram Level: OverviewPrerequisites: No prerequisites
  requiredAdvanced Preparation: No advanced preparation requiredField of St
 udy: Accounting (Governmental) - TechnicalEarn About 14.0 CPE credit\nAcco
 mmodationsNIU Naperville is easily accessible from Interstates 88 and 355\
 , just 27 miles from both O'Hare International Airport and Midway Internat
 ional Airport\, and less than five miles from the Metra Train Station. For
  a list of hotels near NIU Naperville\, visit https://www.niu.edu/conferen
 ceCenters/naperville/service_amenities/hotel_info/naperville-hotel-map.pdf
DTEND:20190620T160000
DTSTAMP:20260424T133328
DTSTART:20190619T083000
LOCATION:NIU Naperville\, 1120 E. Diehl Road\, Naperville\, Illinois 60563
SEQUENCE:0
SUMMARY:Intermediate Governmental Accounting Seminar
UID:44fe21e5-88f5-48ca-80fd-bef272455baa
END:VEVENT
END:VCALENDAR
